Package: msmsEDA Version: 1.45.0 Command: rm -rf msmsEDA.buildbin-libdir && mkdir msmsEDA.buildbin-libdir && E:\biocbuild\bbs-3.21-bioc\R\bin\R.exe CMD INSTALL --build --library=msmsEDA.buildbin-libdir msmsEDA_1.45.0.tar.gz StartedAt: 2025-02-21 08:36:41 -0500 (Fri, 21 Feb 2025) EndedAt: 2025-02-21 08:37:25 -0500 (Fri, 21 Feb 2025) EllapsedTime: 43.4 seconds RetCode: 0 Status: OK PackageFile: msmsEDA_1.45.0.zip PackageFileSize: 394.9 KiB