Package: msmsEDA Version: 1.45.0 Command: /home/biocbuild/bbs-3.21-bioc/R/bin/R CMD INSTALL msmsEDA StartedAt: 2025-02-20 15:49:15 -0500 (Thu, 20 Feb 2025) EndedAt: 2025-02-20 15:49:48 -0500 (Thu, 20 Feb 2025) EllapsedTime: 33.5 seconds RetCode: 0 Status: OK