Package: msmsEDA Version: 1.45.0 Command: /home/biocbuild/bbs-3.21-bioc/R/bin/R CMD check --install=check:msmsEDA.install-out.txt --library=/home/biocbuild/bbs-3.21-bioc/R/site-library --timings msmsEDA_1.45.0.tar.gz StartedAt: 2025-02-20 23:55:38 -0500 (Thu, 20 Feb 2025) EndedAt: 2025-02-20 23:58:13 -0500 (Thu, 20 Feb 2025) EllapsedTime: 154.2 seconds RetCode: 0 Status: OK CheckDir: msmsEDA.Rcheck Warnings: 0