Package: msmsEDA Version: 1.45.0 Command: /home/biocbuild/bbs-3.21-bioc/R/bin/R CMD build --keep-empty-dirs --no-resave-data msmsEDA StartedAt: 2025-02-20 18:21:23 -0500 (Thu, 20 Feb 2025) EndedAt: 2025-02-20 18:22:12 -0500 (Thu, 20 Feb 2025) EllapsedTime: 49.0 seconds RetCode: 0 Status: OK PackageFile: msmsEDA_1.45.0.tar.gz PackageFileSize: 439.3 KiB