Package: msmsEDA Version: 1.45.0 Command: rm -rf msmsEDA.buildbin-libdir && mkdir msmsEDA.buildbin-libdir && /Users/biocbuild/BBS/utils/build-universal.sh msmsEDA_1.45.0.tar.gz /Library/Frameworks/R.framework/Resources/bin/R msmsEDA.buildbin-libdir StartedAt: 2025-02-21 00:41:48 -0500 (Fri, 21 Feb 2025) EndedAt: 2025-02-21 00:42:37 -0500 (Fri, 21 Feb 2025) EllapsedTime: 48.4 seconds RetCode: 0 Status: OK PackageFile: msmsEDA_1.45.0.tgz PackageFileSize: 496.1 KiB