Package: msmsEDA Version: 1.45.0 Command: /Library/Frameworks/R.framework/Resources/bin/R CMD check --install=check:msmsEDA.install-out.txt --library=/Library/Frameworks/R.framework/Resources/library --no-vignettes --timings msmsEDA_1.45.0.tar.gz StartedAt: 2025-02-20 20:21:48 -0500 (Thu, 20 Feb 2025) EndedAt: 2025-02-20 20:22:43 -0500 (Thu, 20 Feb 2025) EllapsedTime: 54.6 seconds RetCode: 0 Status: OK CheckDir: msmsEDA.Rcheck Warnings: 0