Package: msmsEDA Version: 1.45.0 Command: /Library/Frameworks/R.framework/Resources/bin/R CMD build --keep-empty-dirs --no-resave-data msmsEDA StartedAt: 2025-02-20 17:03:02 -0500 (Thu, 20 Feb 2025) EndedAt: 2025-02-20 17:03:24 -0500 (Thu, 20 Feb 2025) EllapsedTime: 21.2 seconds RetCode: 0 Status: OK PackageFile: msmsEDA_1.45.0.tar.gz PackageFileSize: 439.3 KiB