Package: mslp Version: 1.9.0 Command: /home/biocbuild/bbs-3.21-bioc/R/bin/R CMD build --keep-empty-dirs --no-resave-data mslp StartedAt: 2025-02-17 18:12:56 -0500 (Mon, 17 Feb 2025) EndedAt: 2025-02-17 18:13:30 -0500 (Mon, 17 Feb 2025) EllapsedTime: 34.0 seconds RetCode: 0 Status: OK PackageFile: mslp_1.9.0.tar.gz PackageFileSize: 407.5 KiB