Package: mslp Version: 1.9.0 Command: /Library/Frameworks/R.framework/Resources/bin/R CMD INSTALL mslp StartedAt: 2025-02-17 15:18:11 -0500 (Mon, 17 Feb 2025) EndedAt: 2025-02-17 15:18:15 -0500 (Mon, 17 Feb 2025) EllapsedTime: 4.3 seconds RetCode: 0 Status: OK