Package: mslp Version: 1.9.0 Command: /Library/Frameworks/R.framework/Resources/bin/R CMD INSTALL mslp StartedAt: 2025-02-17 15:12:43 -0500 (Mon, 17 Feb 2025) EndedAt: 2025-02-17 15:12:44 -0500 (Mon, 17 Feb 2025) EllapsedTime: 1.1 seconds RetCode: 0 Status: OK