Package: msgbsR Version: 1.31.0 Command: rm -rf msgbsR.buildbin-libdir && mkdir msgbsR.buildbin-libdir && /Users/biocbuild/BBS/utils/build-universal.sh msgbsR_1.31.0.tar.gz /Library/Frameworks/R.framework/Resources/bin/R msgbsR.buildbin-libdir StartedAt: 2025-02-19 00:35:53 -0500 (Wed, 19 Feb 2025) EndedAt: 2025-02-19 00:37:15 -0500 (Wed, 19 Feb 2025) EllapsedTime: 82.0 seconds RetCode: 0 Status: OK PackageFile: msgbsR_1.31.0.tgz PackageFileSize: 15.29 MiB