Package: msgbsR Version: 1.31.0 Command: rm -rf msgbsR.buildbin-libdir && mkdir msgbsR.buildbin-libdir && /Users/biocbuild/BBS/utils/build-universal.sh msgbsR_1.31.0.tar.gz /Library/Frameworks/R.framework/Resources/bin/R msgbsR.buildbin-libdir StartedAt: 2025-02-18 22:29:43 -0500 (Tue, 18 Feb 2025) EndedAt: 2025-02-18 22:30:10 -0500 (Tue, 18 Feb 2025) EllapsedTime: 26.5 seconds RetCode: 0 Status: OK PackageFile: msgbsR_1.31.0.tgz PackageFileSize: 15.29 MiB