Package: msa Version: 1.39.2 Command: E:\biocbuild\bbs-3.21-bioc\R\bin\R.exe CMD check --no-multiarch --install=check:msa.install-out.txt --library=E:\biocbuild\bbs-3.21-bioc\R\library --no-vignettes --timings msa_1.39.2.tar.gz StartedAt: 2025-02-21 03:32:10 -0500 (Fri, 21 Feb 2025) EndedAt: 2025-02-21 03:34:23 -0500 (Fri, 21 Feb 2025) EllapsedTime: 133.2 seconds RetCode: 0 Status: WARNINGS CheckDir: msa.Rcheck Warnings: 1