Package: msa Version: 1.39.2 Command: chmod a+r msa -R && E:\biocbuild\bbs-3.21-bioc\R\bin\R.exe CMD build --keep-empty-dirs --no-resave-data msa StartedAt: 2025-02-20 20:10:03 -0500 (Thu, 20 Feb 2025) EndedAt: 2025-02-20 20:19:36 -0500 (Thu, 20 Feb 2025) EllapsedTime: 573.5 seconds RetCode: 0 Status: OK PackageFile: msa_1.39.2.tar.gz PackageFileSize: 3.893 MiB