Package: msa Version: 1.39.2 Command: rm -rf msa.buildbin-libdir && mkdir msa.buildbin-libdir && E:\biocbuild\bbs-3.21-bioc\R\bin\R.exe CMD INSTALL --build --library=msa.buildbin-libdir msa_1.39.2.tar.gz StartedAt: 2025-02-21 08:35:57 -0500 (Fri, 21 Feb 2025) EndedAt: 2025-02-21 08:43:14 -0500 (Fri, 21 Feb 2025) EllapsedTime: 436.8 seconds RetCode: 0 Status: OK PackageFile: msa_1.39.2.zip PackageFileSize: 1.948 MiB