Package: msa Version: 1.39.2 Command: /home/biocbuild/bbs-3.21-bioc/R/bin/R CMD check --install=check:msa.install-out.txt --library=/home/biocbuild/bbs-3.21-bioc/R/site-library --timings msa_1.39.2.tar.gz StartedAt: 2025-02-20 23:52:16 -0500 (Thu, 20 Feb 2025) EndedAt: 2025-02-20 23:53:51 -0500 (Thu, 20 Feb 2025) EllapsedTime: 95.1 seconds RetCode: 0 Status: WARNINGS CheckDir: msa.Rcheck Warnings: 2