Package: msa Version: 1.39.2 Command: /home/biocbuild/bbs-3.21-bioc/R/bin/R CMD build --keep-empty-dirs --no-resave-data msa StartedAt: 2025-02-20 18:20:10 -0500 (Thu, 20 Feb 2025) EndedAt: 2025-02-20 18:24:43 -0500 (Thu, 20 Feb 2025) EllapsedTime: 272.3 seconds RetCode: 0 Status: OK PackageFile: msa_1.39.2.tar.gz PackageFileSize: 3.893 MiB