Package: msa Version: 1.39.2 Command: /Library/Frameworks/R.framework/Resources/bin/R CMD build --keep-empty-dirs --no-resave-data msa StartedAt: 2025-02-20 17:28:07 -0500 (Thu, 20 Feb 2025) EndedAt: 2025-02-20 17:34:57 -0500 (Thu, 20 Feb 2025) EllapsedTime: 410.5 seconds RetCode: 0 Status: OK PackageFile: msa_1.39.2.tar.gz PackageFileSize: 3.893 MiB