Package: msa Version: 1.39.2 Command: rm -rf msa.buildbin-libdir && mkdir msa.buildbin-libdir && /Users/biocbuild/BBS/utils/build-universal.sh msa_1.39.2.tar.gz /Library/Frameworks/R.framework/Resources/bin/R msa.buildbin-libdir StartedAt: 2025-02-21 00:41:29 -0500 (Fri, 21 Feb 2025) EndedAt: 2025-02-21 00:48:44 -0500 (Fri, 21 Feb 2025) EllapsedTime: 435.6 seconds RetCode: 0 Status: OK PackageFile: msa_1.39.2.tgz PackageFileSize: 1.81 MiB