Package: msa Version: 1.39.2 Command: /Library/Frameworks/R.framework/Resources/bin/R CMD INSTALL msa StartedAt: 2025-02-20 15:04:08 -0500 (Thu, 20 Feb 2025) EndedAt: 2025-02-20 15:05:53 -0500 (Thu, 20 Feb 2025) EllapsedTime: 105.1 seconds RetCode: 0 Status: OK