Package: msa Version: 1.39.2 Command: /Library/Frameworks/R.framework/Resources/bin/R CMD build --keep-empty-dirs --no-resave-data msa StartedAt: 2025-02-20 17:02:15 -0500 (Thu, 20 Feb 2025) EndedAt: 2025-02-20 17:04:17 -0500 (Thu, 20 Feb 2025) EllapsedTime: 122.3 seconds RetCode: 0 Status: OK PackageFile: msa_1.39.2.tar.gz PackageFileSize: 3.893 MiB