Package: msa Version: 1.39.2 Maintainer: Ulrich Bodenhofer MaintainerEmail: ulrich at bodenhofer.com git_url: https://git.bioconductor.org/packages/msa git_branch: devel git_last_commit: 20dabf2 git_last_commit_date: 2025-02-14 04:47:45 -0500 (Fri, 14 Feb 2025)