Package: msPurity Version: 1.33.0 Command: /home/biocbuild/bbs-3.21-bioc/R/bin/R CMD build --keep-empty-dirs --no-resave-data msPurity StartedAt: 2025-02-20 18:22:12 -0500 (Thu, 20 Feb 2025) EndedAt: 2025-02-20 18:30:16 -0500 (Thu, 20 Feb 2025) EllapsedTime: 484.5 seconds RetCode: 0 Status: OK PackageFile: msPurity_1.33.0.tar.gz PackageFileSize: 11.28 MiB