Package: msPurity Version: 1.33.0 Command: /Library/Frameworks/R.framework/Resources/bin/R CMD check --install=check:msPurity.install-out.txt --library=/Library/Frameworks/R.framework/Resources/library --no-vignettes --timings msPurity_1.33.0.tar.gz StartedAt: 2025-02-20 21:51:59 -0500 (Thu, 20 Feb 2025) EndedAt: 2025-02-20 22:05:20 -0500 (Thu, 20 Feb 2025) EllapsedTime: 801.5 seconds RetCode: 1 Status: ERROR CheckDir: msPurity.Rcheck Warnings: NA