Package: msPurity Version: 1.33.0 Command: /Library/Frameworks/R.framework/Resources/bin/R CMD build --keep-empty-dirs --no-resave-data msPurity StartedAt: 2025-02-20 17:30:14 -0500 (Thu, 20 Feb 2025) EndedAt: 2025-02-20 17:39:48 -0500 (Thu, 20 Feb 2025) EllapsedTime: 574.5 seconds RetCode: 0 Status: OK PackageFile: msPurity_1.33.0.tar.gz PackageFileSize: 11.28 MiB