Package: msPurity Version: 1.33.0 Command: /Library/Frameworks/R.framework/Resources/bin/R CMD INSTALL msPurity StartedAt: 2025-02-20 15:07:07 -0500 (Thu, 20 Feb 2025) EndedAt: 2025-02-20 15:07:11 -0500 (Thu, 20 Feb 2025) EllapsedTime: 4.6 seconds RetCode: 0 Status: OK