Package: msImpute Version: 1.17.0 Command: /home/biocbuild/bbs-3.21-bioc/R/bin/R CMD INSTALL msImpute StartedAt: 2025-02-20 16:10:08 -0500 (Thu, 20 Feb 2025) EndedAt: 2025-02-20 16:10:34 -0500 (Thu, 20 Feb 2025) EllapsedTime: 26.9 seconds RetCode: 0 Status: OK