Package: msImpute Version: 1.17.0 Command: /home/biocbuild/bbs-3.21-bioc/R/bin/R CMD check --install=check:msImpute.install-out.txt --library=/home/biocbuild/bbs-3.21-bioc/R/site-library --timings msImpute_1.17.0.tar.gz StartedAt: 2025-02-20 23:55:12 -0500 (Thu, 20 Feb 2025) EndedAt: 2025-02-20 23:59:10 -0500 (Thu, 20 Feb 2025) EllapsedTime: 237.2 seconds RetCode: 0 Status: OK CheckDir: msImpute.Rcheck Warnings: 0