Package: mpra Version: 1.29.0 Command: chmod a+r mpra -R && E:\biocbuild\bbs-3.21-bioc\R\bin\R.exe CMD build --keep-empty-dirs --no-resave-data mpra StartedAt: 2025-02-21 20:47:51 -0500 (Fri, 21 Feb 2025) EndedAt: 2025-02-21 20:49:39 -0500 (Fri, 21 Feb 2025) EllapsedTime: 107.8 seconds RetCode: 0 Status: OK PackageFile: mpra_1.29.0.tar.gz PackageFileSize: 2.955 MiB