Package: mpra Version: 1.29.0 Command: /home/biocbuild/bbs-3.21-bioc/R/bin/R CMD INSTALL mpra StartedAt: 2025-02-21 15:59:43 -0500 (Fri, 21 Feb 2025) EndedAt: 2025-02-21 16:00:06 -0500 (Fri, 21 Feb 2025) EllapsedTime: 23.4 seconds RetCode: 0 Status: OK