Package: mpra Version: 1.29.0 Command: /home/biocbuild/R/R/bin/R CMD INSTALL mpra StartedAt: 2025-01-29 19:39:52 -0000 (Wed, 29 Jan 2025) EndedAt: 2025-01-29 19:40:27 -0000 (Wed, 29 Jan 2025) EllapsedTime: 34.8 seconds RetCode: 0 Status: OK