Package: motifcounter Version: 1.31.0 Command: /Library/Frameworks/R.framework/Resources/bin/R CMD INSTALL motifcounter StartedAt: 2025-02-19 15:10:42 -0500 (Wed, 19 Feb 2025) EndedAt: 2025-02-19 15:11:03 -0500 (Wed, 19 Feb 2025) EllapsedTime: 21.3 seconds RetCode: 0 Status: OK