Package: motifbreakR Version: 2.21.0 Command: E:\biocbuild\bbs-3.21-bioc\R\bin\R.exe CMD INSTALL motifbreakR StartedAt: 2025-02-20 16:44:31 -0500 (Thu, 20 Feb 2025) EndedAt: 2025-02-20 16:45:58 -0500 (Thu, 20 Feb 2025) EllapsedTime: 87.7 seconds RetCode: 0 Status: OK