############################################################################## ############################################################################## ### ### Running command: ### ### /home/biocbuild/bbs-3.21-bioc/R/bin/R CMD build --keep-empty-dirs --no-resave-data motifbreakR ### ############################################################################## ############################################################################## * checking for file ‘motifbreakR/DESCRIPTION’ ... OK * preparing ‘motifbreakR’: * checking DESCRIPTION meta-information ... OK * installing the package to build vignettes ----------------------------------- ERROR: dependency ‘motifStack’ is not available for package ‘motifbreakR’ Perhaps try a variation of: install.packages('motifStack') * removing ‘/tmp/Rtmp3U34dw/Rinst1c72451d87d66c/motifbreakR’ ----------------------------------- ERROR: package installation failed