Package: motifbreakR Version: 2.21.0 Command: /Library/Frameworks/R.framework/Resources/bin/R CMD INSTALL motifbreakR StartedAt: 2025-02-19 15:29:46 -0500 (Wed, 19 Feb 2025) EndedAt: 2025-02-19 15:31:17 -0500 (Wed, 19 Feb 2025) EllapsedTime: 90.9 seconds RetCode: 0 Status: OK