Package: motifbreakR Version: 2.21.0 Command: /Library/Frameworks/R.framework/Resources/bin/R CMD build --keep-empty-dirs --no-resave-data motifbreakR StartedAt: 2025-02-19 17:25:49 -0500 (Wed, 19 Feb 2025) EndedAt: 2025-02-19 17:36:07 -0500 (Wed, 19 Feb 2025) EllapsedTime: 618.4 seconds RetCode: 0 Status: OK PackageFile: motifbreakR_2.21.0.tar.gz PackageFileSize: 2.489 MiB