Package: motifbreakR Version: 2.21.0 Command: /Library/Frameworks/R.framework/Resources/bin/R CMD check --install=check:motifbreakR.install-out.txt --library=/Library/Frameworks/R.framework/Resources/library --no-vignettes --timings motifbreakR_2.21.0.tar.gz StartedAt: 2025-02-20 20:17:10 -0500 (Thu, 20 Feb 2025) EndedAt: 2025-02-20 20:21:01 -0500 (Thu, 20 Feb 2025) EllapsedTime: 231.6 seconds RetCode: 0 Status: WARNINGS CheckDir: motifbreakR.Rcheck Warnings: 1