Package: motifbreakR Version: 2.21.0 Command: rm -rf motifbreakR.buildbin-libdir && mkdir motifbreakR.buildbin-libdir && /Users/biocbuild/BBS/utils/build-universal.sh motifbreakR_2.21.0.tar.gz /Library/Frameworks/R.framework/Resources/bin/R motifbreakR.buildbin-libdir StartedAt: 2025-02-19 22:29:40 -0500 (Wed, 19 Feb 2025) EndedAt: 2025-02-19 22:30:09 -0500 (Wed, 19 Feb 2025) EllapsedTime: 28.5 seconds RetCode: 0 Status: OK PackageFile: motifbreakR_2.21.0.tgz PackageFileSize: 2.444 MiB