Package: motifTestR Version: 1.3.3 Command: /home/biocbuild/bbs-3.21-bioc/R/bin/R CMD build --keep-empty-dirs --no-resave-data motifTestR StartedAt: 2025-02-19 18:13:55 -0500 (Wed, 19 Feb 2025) EndedAt: 2025-02-19 18:15:22 -0500 (Wed, 19 Feb 2025) EllapsedTime: 87.1 seconds RetCode: 0 Status: OK PackageFile: motifTestR_1.3.3.tar.gz PackageFileSize: 1.032 MiB