Package: motifTestR Version: 1.3.3 Command: /Library/Frameworks/R.framework/Resources/bin/R CMD build --keep-empty-dirs --no-resave-data motifTestR StartedAt: 2025-02-20 17:27:27 -0500 (Thu, 20 Feb 2025) EndedAt: 2025-02-20 17:29:20 -0500 (Thu, 20 Feb 2025) EllapsedTime: 113.0 seconds RetCode: 0 Status: OK PackageFile: motifTestR_1.3.3.tar.gz PackageFileSize: 1.134 MiB