Package: motifStack Version: 1.51.1 Command: E:\biocbuild\bbs-3.21-bioc\R\bin\R.exe CMD INSTALL motifStack StartedAt: 2025-02-20 16:29:25 -0500 (Thu, 20 Feb 2025) EndedAt: 2025-02-20 16:31:05 -0500 (Thu, 20 Feb 2025) EllapsedTime: 99.8 seconds RetCode: 0 Status: OK