Package: motifStack Version: 1.51.1 Command: E:\biocbuild\bbs-3.21-bioc\R\bin\R.exe CMD check --no-multiarch --install=check:motifStack.install-out.txt --library=E:\biocbuild\bbs-3.21-bioc\R\library --no-vignettes --timings motifStack_1.51.1.tar.gz StartedAt: 2025-02-21 03:29:13 -0500 (Fri, 21 Feb 2025) EndedAt: 2025-02-21 03:35:48 -0500 (Fri, 21 Feb 2025) EllapsedTime: 394.2 seconds RetCode: 0 Status: OK CheckDir: motifStack.Rcheck Warnings: 0