Package: motifStack Version: 1.51.1 Command: chmod a+r motifStack -R && E:\biocbuild\bbs-3.21-bioc\R\bin\R.exe CMD build --keep-empty-dirs --no-resave-data motifStack StartedAt: 2025-02-20 20:09:08 -0500 (Thu, 20 Feb 2025) EndedAt: 2025-02-20 20:10:53 -0500 (Thu, 20 Feb 2025) EllapsedTime: 105.6 seconds RetCode: 0 Status: OK PackageFile: motifStack_1.51.1.tar.gz PackageFileSize: 561.6 KiB