Package: motifStack Version: 1.51.1 Command: /home/biocbuild/bbs-3.21-bioc/R/bin/R CMD INSTALL motifStack StartedAt: 2025-02-20 16:05:25 -0500 (Thu, 20 Feb 2025) EndedAt: 2025-02-20 16:05:26 -0500 (Thu, 20 Feb 2025) EllapsedTime: 1.1 seconds RetCode: 1 Status: ERROR