Package: motifStack Version: 1.51.1 Command: /home/biocbuild/bbs-3.21-bioc/R/bin/R CMD build --keep-empty-dirs --no-resave-data motifStack StartedAt: 2025-02-20 18:19:21 -0500 (Thu, 20 Feb 2025) EndedAt: 2025-02-20 18:19:22 -0500 (Thu, 20 Feb 2025) EllapsedTime: 1.0 seconds RetCode: 1 Status: ERROR PackageFile: None PackageFileSize: NA