############################################################################## ############################################################################## ### ### Running command: ### ### /home/biocbuild/bbs-3.21-bioc/R/bin/R CMD build --keep-empty-dirs --no-resave-data motifStack ### ############################################################################## ############################################################################## * checking for file ‘motifStack/DESCRIPTION’ ... OK * preparing ‘motifStack’: * checking DESCRIPTION meta-information ... OK * installing the package to build vignettes ----------------------------------- ERROR: dependency ‘TFBSTools’ is not available for package ‘motifStack’ Perhaps try a variation of: install.packages('TFBSTools') * removing ‘/tmp/Rtmp96mWs1/Rinst1c790f1f9353a/motifStack’ ----------------------------------- ERROR: package installation failed