Package: motifStack Version: 1.51.1 Command: /Library/Frameworks/R.framework/Resources/bin/R CMD INSTALL motifStack StartedAt: 2025-02-20 15:23:17 -0500 (Thu, 20 Feb 2025) EndedAt: 2025-02-20 15:24:23 -0500 (Thu, 20 Feb 2025) EllapsedTime: 65.4 seconds RetCode: 0 Status: OK