Package: mosdef Version: 1.3.1 Command: /home/biocbuild/bbs-3.21-bioc/R/bin/R CMD INSTALL mosdef StartedAt: 2025-02-21 16:27:29 -0500 (Fri, 21 Feb 2025) EndedAt: 2025-02-21 16:28:14 -0500 (Fri, 21 Feb 2025) EllapsedTime: 45.1 seconds RetCode: 0 Status: OK