Package: mosdef Version: 1.3.1 Command: /Library/Frameworks/R.framework/Resources/bin/R CMD build --keep-empty-dirs --no-resave-data mosdef StartedAt: 2025-02-21 17:25:43 -0500 (Fri, 21 Feb 2025) EndedAt: 2025-02-21 17:32:45 -0500 (Fri, 21 Feb 2025) EllapsedTime: 422.3 seconds RetCode: 0 Status: OK PackageFile: mosdef_1.3.1.tar.gz PackageFileSize: 4.555 MiB