Package: mosdef Version: 1.3.1 Command: rm -rf mosdef.buildbin-libdir && mkdir mosdef.buildbin-libdir && /Users/biocbuild/BBS/utils/build-universal.sh mosdef_1.3.1.tar.gz /Library/Frameworks/R.framework/Resources/bin/R mosdef.buildbin-libdir StartedAt: 2025-02-22 00:42:07 -0500 (Sat, 22 Feb 2025) EndedAt: 2025-02-22 00:43:11 -0500 (Sat, 22 Feb 2025) EllapsedTime: 63.4 seconds RetCode: 0 Status: OK PackageFile: mosdef_1.3.1.tgz PackageFileSize: 4.653 MiB